BEGIN:VCALENDAR
VERSION:2.0
PRODID:-//Tukios.com/
BEGIN:VEVENT
UID:1fd62291-8f63-492c-a998-4b193099f34b@www.bradfordlawrencefh.com
DTSTAMP:20260424T022608Z
DTSTART:20260427T191500Z
DTEND:20260427T194500Z
SUMMARY:Interment Following Funeral Service
DESCRIPTION:
URL:https://www.bradfordlawrencefh.com/obituaries/robert-manley
LOCATION:Providence Cemetery 6804 County Road 136  Town Creek AL 35672
GEO:34.5928771;-87.4175369
END:VEVENT
END:VCALENDAR