BEGIN:VCALENDAR
VERSION:2.0
PRODID:-//Tukios.com/
BEGIN:VEVENT
UID:353b76ef-6035-4b48-a5e3-926b26a114d3@www.bradfordlawrencefh.com
DTSTAMP:20260424T022739Z
DTSTART:20260427T150000Z
DTEND:20260427T170000Z
SUMMARY:Public Viewing
DESCRIPTION:
URL:https://www.bradfordlawrencefh.com/obituaries/robert-manley
LOCATION:Lawrence Funeral Home 12950 AL Hwy 157 PO Box 11 Moulton AL 
	35650
GEO:34.5020099;-87.2833347
END:VEVENT
END:VCALENDAR